BEGIN:VCALENDAR
VERSION:2.0
PRODID:Greensboro, NC Calendar Creator
METHOD:PUBLISH
BEGIN:VEVENT
DTSTAMP:20180109T031834
DTSTART:20120118T153000
DTEND:20120118T163000
SUMMARY:Plant and Share
DESCRIPTION:Help design a vegetable garden and plant winter seedlings to feed the hungry. Middle schoolers, join us and help younger gardeners. For grades K-8.
X-ALT-DESC;FMTTYPE=text/html:Help design a vegetable garden and plant winter seedlings to feed the hungry. Middle schoolers, join us and help younger gardeners. For grades K-8.
LOCATION:Kathleen Clay Library\, 1420 Price Park Rd. Greensboro\, North Carolina 27410
CLASS:PUBLIC
END:VEVENT
END:VCALENDAR
