BEGIN:VCALENDAR
VERSION:2.0
PRODID:Greensboro, NC Calendar Creator
METHOD:PUBLISH
BEGIN:VEVENT
DTSTAMP:20180109T031834
DTSTART:20120119T153000
DTEND:20120119T161500
SUMMARY:Happy Chinese New Year
DESCRIPTION:Celebrate the Chinese New Year with crafts, stories and food - Gung Hay Fat Choy!
X-ALT-DESC;FMTTYPE=text/html:Celebrate the Chinese New Year with crafts, stories and food - Gung Hay Fat Choy!
LOCATION:Benjamin  Branch Library\, 1530 Benjamin Parkway Greensboro\, North Carolina 27408
CLASS:PUBLIC
END:VEVENT
END:VCALENDAR
