BEGIN:VCALENDAR
VERSION:2.0
PRODID:Greensboro, NC Calendar Creator
METHOD:PUBLISH
BEGIN:VEVENT
DTSTAMP:20180109T031834
DTSTART:20120111T103000
DTEND:20120111T235900
SUMMARY:Circus Storytime
DESCRIPTION:<p>Join us for a circus storytime with Ringling Bros. and Barnum &amp; Bailey Clown Jamarr Woodruff. Put on your best clown face, pack your juggling sticks and come to Central Library for a fun and interactive storytime event!</p><p>&nbsp;</p>
X-ALT-DESC;FMTTYPE=text/html:<p>Join us for a circus storytime with Ringling Bros. and Barnum &amp; Bailey Clown Jamarr Woodruff. Put on your best clown face, pack your juggling sticks and come to Central Library for a fun and interactive storytime event!</p><p>&nbsp;</p>
LOCATION:Central Library\, 219 N. Church St Greensboro\, North Carolina 27401
CLASS:PUBLIC
END:VEVENT
END:VCALENDAR
