BEGIN:VCALENDAR
VERSION:2.0
PRODID:Greensboro, NC Calendar Creator
METHOD:PUBLISH
BEGIN:VEVENT
DTSTAMP:20180109T031834
DTSTART:20120111T100000
DTEND:20120111T113000
SUMMARY:Beginners Computer Class
DESCRIPTION:Learn basic Internet search skills, how to make documents, and save files. Small class size allows time for your questions. Please call 336-373-2925 to register.
X-ALT-DESC;FMTTYPE=text/html:Learn basic Internet search skills, how to make documents, and save files. Small class size allows time for your questions. Please call 336-373-2925 to register.
LOCATION:Hemphill Branch\, 2301 W. Vandalia Rd. Greensboro\, North Carolina 27407
CLASS:PUBLIC
END:VEVENT
END:VCALENDAR
