BEGIN:VCALENDAR
VERSION:2.0
PRODID:Greensboro, NC Calendar Creator
METHOD:PUBLISH
BEGIN:VEVENT
DTSTAMP:20180109T031834
DTSTART:20120117T140000
DTEND:20120117T150000
SUMMARY:Fiction Book Club
DESCRIPTION:Join us for a discussion of fiction titles. New members are welcome.
X-ALT-DESC;FMTTYPE=text/html:Join us for a discussion of fiction titles. New members are welcome.
LOCATION:Kathleen Clay Edwards Library\, 1420 Price Park Rd. Greensboro\, North Carolina 27410
CLASS:PUBLIC
END:VEVENT
END:VCALENDAR
