BEGIN:VCALENDAR
VERSION:2.0
PRODID:Greensboro, NC Calendar Creator
METHOD:PUBLISH
BEGIN:VEVENT
DTSTAMP:20180109T031834
DTSTART:20120229T103000
DTEND:20120301T115900
SUMMARY:Greensboro Urban Area Metropolitan Planning Organization (MPO)'s Technical Coordinating Committee (TCC) Meeting
DESCRIPTION:MPO has two boards that manages the transportation planning process required by federal law. The Technical Coordinating Committee (TCC) is composed of regional planning staff and MPO's policy board, the Transportation Advisory Committee (TAC), is composed of designated elected officials.&nbsp;&nbsp;The public is invited to speek at the beginning of each TAC meeting.&nbsp; MPO&nbsp;<a href="https://greensboro2.prod-as.govaccess.org/departments/transportation/metropolitan-planning-organization/upcoming-tcc-tac-meeting-materials">meeting materials</a> are available one week in advance of each meeting.
X-ALT-DESC;FMTTYPE=text/html:MPO has two boards that manages the transportation planning process required by federal law. The Technical Coordinating Committee (TCC) is composed of regional planning staff and MPO's policy board, the Transportation Advisory Committee (TAC), is composed of designated elected officials.&nbsp;&nbsp;The public is invited to speek at the beginning of each TAC meeting.&nbsp; MPO&nbsp;<a href="https://greensboro2.prod-as.govaccess.org/departments/transportation/metropolitan-planning-organization/upcoming-tcc-tac-meeting-materials">meeting materials</a> are available one week in advance of each meeting.
LOCATION:GDOT Conference Room\, 3rd Floor\, Melvin Municipal Office Building\, 300 W. Washington Street Greensboro\, North Carolina 27402
CLASS:PUBLIC
END:VEVENT
END:VCALENDAR
