BEGIN:VCALENDAR
VERSION:2.0
PRODID:Greensboro, NC Calendar Creator
METHOD:PUBLISH
BEGIN:VEVENT
DTSTAMP:20180109T031834
DTSTART:20110824T140000
DTEND:20110824T160000
SUMMARY:Greensboro Urban Area Metropolitan Planning Organization (MPO)'s Transportation Advisory Committee Meeting
DESCRIPTION:The Greensboro Urban Area Metropolitan Planning Organization (MPO) manages the transportation planning process required by federal law. The MPO's policy board, the Transportation Advisory Committee (TAC), is composed of designated elected officials who meet monthly to execute the transportation planning process.&nbsp;For information on&nbsp;upcoming meetings,&nbsp;visit&nbsp;the <a href="https://greensboro2.prod-as.govaccess.org/departments/transportation/metropolitan-planning-organization/upcoming-tcc-tac-meeting-materials" shape="rect">upcoming MPO meeting page</a>.&nbsp;
X-ALT-DESC;FMTTYPE=text/html:The Greensboro Urban Area Metropolitan Planning Organization (MPO) manages the transportation planning process required by federal law. The MPO's policy board, the Transportation Advisory Committee (TAC), is composed of designated elected officials who meet monthly to execute the transportation planning process.&nbsp;For information on&nbsp;upcoming meetings,&nbsp;visit&nbsp;the <a href="https://greensboro2.prod-as.govaccess.org/departments/transportation/metropolitan-planning-organization/upcoming-tcc-tac-meeting-materials" shape="rect">upcoming MPO meeting page</a>.&nbsp;
LOCATION:Council Chamber\, Melvin Municipal Office Building\, 300 W. Washington St. Greensboro\, North Carolina 27401
CLASS:PUBLIC
END:VEVENT
END:VCALENDAR
