BEGIN:VCALENDAR
VERSION:2.0
PRODID:Greensboro, NC Calendar Creator
METHOD:PUBLISH
BEGIN:VEVENT
DTSTAMP:20180109T031834
DTSTART:20111208T143000
DTEND:20111208T235900
SUMMARY:City Council Procedures & Parliamentary Rules Briefing 
DESCRIPTION:The purpose of the meeting is to discuss City Council meeting procedures and parliamentary rules.
X-ALT-DESC;FMTTYPE=text/html:The purpose of the meeting is to discuss City Council meeting procedures and parliamentary rules.
LOCATION:Plaza Level Conference Room\, Melvin Municipal Office Building\, 300 W. Washington St. Greensboro\, North Carolina 
CLASS:PUBLIC
END:VEVENT
END:VCALENDAR
