BEGIN:VCALENDAR
VERSION:2.0
PRODID:Greensboro, NC Calendar Creator
METHOD:PUBLISH
BEGIN:VEVENT
DTSTAMP:20180109T031834
DTSTART:20111031T103000
DTEND:20111101T115900
SUMMARY:Greensboro Urban Area Metropolitan Planning Organization (MPO)'s Technical Coordinating Committee (TCC) Meeting
DESCRIPTION:The Greensboro Urban Area Metropolitan Planning Organization (MPO) manages the transportation planning process required by federal law. The MPO has two boards that meet monthly to execute the transportation planning process.&nbsp; The Technical Coordinating Committee (TCC) is composed of regional planning staff.&nbsp; The MPO's policy board, the Transportation Advisory Committee (TAC), is composed of designated elected officials.&nbsp; MPO&nbsp;<a href="https://greensboro2.prod-as.govaccess.org/departments/transportation/metropolitan-planning-organization/upcoming-tcc-tac-meeting-materials" target="_self">meeting materials</a> are available one week in advance of each meeting.&nbsp;&nbsp;
X-ALT-DESC;FMTTYPE=text/html:The Greensboro Urban Area Metropolitan Planning Organization (MPO) manages the transportation planning process required by federal law. The MPO has two boards that meet monthly to execute the transportation planning process.&nbsp; The Technical Coordinating Committee (TCC) is composed of regional planning staff.&nbsp; The MPO's policy board, the Transportation Advisory Committee (TAC), is composed of designated elected officials.&nbsp; MPO&nbsp;<a href="https://greensboro2.prod-as.govaccess.org/departments/transportation/metropolitan-planning-organization/upcoming-tcc-tac-meeting-materials" target="_self">meeting materials</a> are available one week in advance of each meeting.&nbsp;&nbsp;
LOCATION:GDOT Conference Room\, 3rd Floor\, Melvin Municipal Office Building\, 300 W. Washington Street Greensboro\, North Carolina 27702
CLASS:PUBLIC
END:VEVENT
END:VCALENDAR
