BEGIN:VCALENDAR
VERSION:2.0
PRODID:Greensboro, NC Calendar Creator
METHOD:PUBLISH
BEGIN:VEVENT
DTSTAMP:20180109T031834
DTSTART:20111204T140000
DTEND:20111204T180000
SUMMARY:Visit with Santa
DESCRIPTION:Activities will include music, snacks, crafts and a hayride for the whole family to enjoy. Bring a camera or ask the&nbsp;staff photographer to capture a commemorative photo of Santa and the kids.&nbsp;Canned food items and gently-used or new toys will be collected for local charities.
X-ALT-DESC;FMTTYPE=text/html:Activities will include music, snacks, crafts and a hayride for the whole family to enjoy. Bring a camera or ask the&nbsp;staff photographer to capture a commemorative photo of Santa and the kids.&nbsp;Canned food items and gently-used or new toys will be collected for local charities.
LOCATION:Bur-Mil Park Clubhouse\, 5834 Bur-Mil Club Road Greensboro\, North Carolina 
CLASS:PUBLIC
END:VEVENT
END:VCALENDAR
