BEGIN:VCALENDAR
VERSION:2.0
PRODID:Greensboro, NC Calendar Creator
METHOD:PUBLISH
BEGIN:VEVENT
DTSTAMP:20180109T031834
DTSTART:20111204T000000
DTEND:20111204T235900
SUMMARY:Holiday Crafters’ Market
DESCRIPTION:Features well-known artisans and craftsmen from across the Piedmont selling unique handmade items such as&nbsp;birdhouses,&nbsp;holiday ornaments, note pads, note cards, hair accessories, picture frames, hula hoops, jewelry, yard and garden follies, holiday gnomes, scented soaps, artwork, decorative boots and much more. Get an early start on your holiday shopping!
X-ALT-DESC;FMTTYPE=text/html:Features well-known artisans and craftsmen from across the Piedmont selling unique handmade items such as&nbsp;birdhouses,&nbsp;holiday ornaments, note pads, note cards, hair accessories, picture frames, hula hoops, jewelry, yard and garden follies, holiday gnomes, scented soaps, artwork, decorative boots and much more. Get an early start on your holiday shopping!
LOCATION:Greensboro Cultural Center\, 200 North Davie Street Greensboro\, North Carolina 
CLASS:PUBLIC
END:VEVENT
END:VCALENDAR
