BEGIN:VCALENDAR
VERSION:2.0
PRODID:Greensboro, NC Calendar Creator
METHOD:PUBLISH
BEGIN:VEVENT
DTSTAMP:20180109T031834
DTSTART:20111122T150000
DTEND:20111122T170000
SUMMARY:Guilford County Delegation Meeting
DESCRIPTION:The Guilford County Legislative Delegation meets with UNCG Chancellor Linda Brady, NC A&amp;T State University's Provost Winser Alexander, and GTCC President Randy Parker to address issues important to the Guilford County education community. Channel 13 will broadcast the meeting.
X-ALT-DESC;FMTTYPE=text/html:The Guilford County Legislative Delegation meets with UNCG Chancellor Linda Brady, NC A&amp;T State University's Provost Winser Alexander, and GTCC President Randy Parker to address issues important to the Guilford County education community. Channel 13 will broadcast the meeting.
LOCATION:Council Chamber\, Melvin Municipal Office Building\, 300 W. Washington St. Greensboro\, North Carolina 
CLASS:PUBLIC
END:VEVENT
END:VCALENDAR
