BEGIN:VCALENDAR
VERSION:2.0
PRODID:Greensboro, NC Calendar Creator
METHOD:PUBLISH
BEGIN:VEVENT
DTSTAMP:20180109T031834
DTSTART:20111222T140000
DTEND:20111222T160000
SUMMARY:Polar Express Party
DESCRIPTION:All aboard the polar express! Come watch the movie, have hot cocoa and make a special treat.
X-ALT-DESC;FMTTYPE=text/html:All aboard the polar express! Come watch the movie, have hot cocoa and make a special treat.
LOCATION:Glenwood Branch Library\, 1901 W Florida Street Greensboro\, North Carolina 27403
CLASS:PUBLIC
END:VEVENT
END:VCALENDAR
