BEGIN:VCALENDAR
VERSION:2.0
PRODID:Greensboro, NC Calendar Creator
METHOD:PUBLISH
BEGIN:VEVENT
DTSTAMP:20180109T031834
DTSTART:20111221T103000
DTEND:20111221T113000
SUMMARY:Stories & More at Glenwood Library
DESCRIPTION:Celebrate Chanukah with stories, music and an art activity.
X-ALT-DESC;FMTTYPE=text/html:Celebrate Chanukah with stories, music and an art activity.
LOCATION:Glenwood Branch Library\, 1901 W Florida Street Greensboro\, North Carolina 27403
CLASS:PUBLIC
END:VEVENT
END:VCALENDAR
