BEGIN:VCALENDAR
VERSION:2.0
PRODID:Greensboro, NC Calendar Creator
METHOD:PUBLISH
BEGIN:VEVENT
DTSTAMP:20180109T031834
DTSTART:20111215T153000
DTEND:20111215T161500
SUMMARY:Santa Story Time
DESCRIPTION:Join us for stories, songs and&nbsp;crafts, plus the opportunity to meet our special guest - the jolly, old elf himself - Santa!
X-ALT-DESC;FMTTYPE=text/html:Join us for stories, songs and&nbsp;crafts, plus the opportunity to meet our special guest - the jolly, old elf himself - Santa!
LOCATION:Benjamin Branch Library\, 1530 Benjamin Parkway Greensboro\, North Carolina 27408
CLASS:PUBLIC
END:VEVENT
END:VCALENDAR
