BEGIN:VCALENDAR
VERSION:2.0
PRODID:Greensboro, NC Calendar Creator
METHOD:PUBLISH
BEGIN:VEVENT
DTSTAMP:20180109T031834
DTSTART:20111215T183000
DTEND:20111215T203000
SUMMARY:Third Thursday at McGirt-Horton Branch Library
DESCRIPTION:Join us for our December edition of Third Thursday, where we will look at the HBO documentary film "Little Rock Central High: 50 Years Later." The film follows present-day Central High students and faculty both in and out of school, along with community leaders and one of the original "Little Rock Nine," who reflects on how much and how little has changed since she courageously crossed the school's steps a century ago.
X-ALT-DESC;FMTTYPE=text/html:Join us for our December edition of Third Thursday, where we will look at the HBO documentary film "Little Rock Central High: 50 Years Later." The film follows present-day Central High students and faculty both in and out of school, along with community leaders and one of the original "Little Rock Nine," who reflects on how much and how little has changed since she courageously crossed the school's steps a century ago.
LOCATION:McGirt-Horton Branch Library\, 2501 Phillips Ave. Greensboro\, North Carolina 27405
CLASS:PUBLIC
END:VEVENT
END:VCALENDAR
