BEGIN:VCALENDAR
VERSION:2.0
PRODID:Greensboro, NC Calendar Creator
METHOD:PUBLISH
BEGIN:VEVENT
DTSTAMP:20180109T031834
DTSTART:20111220T100000
DTEND:20111220T110000
SUMMARY:Story Time at McGirt-Horton Branch Library
DESCRIPTION:Come enjoy stories, felt board activities, and crafts, as well as a&nbsp;visit by&nbsp;Santa.
X-ALT-DESC;FMTTYPE=text/html:Come enjoy stories, felt board activities, and crafts, as well as a&nbsp;visit by&nbsp;Santa.
LOCATION:McGirt-Horton Branch Library\, 2501 Phillips Ave. Greensboro\, North Carolina 27405
CLASS:PUBLIC
END:VEVENT
END:VCALENDAR
