BEGIN:VCALENDAR
VERSION:2.0
PRODID:Greensboro, NC Calendar Creator
METHOD:PUBLISH
BEGIN:VEVENT
DTSTAMP:20180109T031834
DTSTART:20120201T100000
DTEND:20120201T233000
SUMMARY:Family Place Workshop
DESCRIPTION:Enjoy a room full of toys plus music and art activities for preschoolers; parents and caregivers can network while children play together in a relaxed environment.
X-ALT-DESC;FMTTYPE=text/html:Enjoy a room full of toys plus music and art activities for preschoolers; parents and caregivers can network while children play together in a relaxed environment.
LOCATION:Hemphill Branch Library\, 2301 West Vandalia Road Greensboro\, North Carolina 27407
CLASS:PUBLIC
END:VEVENT
END:VCALENDAR
