BEGIN:VCALENDAR
VERSION:2.0
PRODID:Greensboro, NC Calendar Creator
METHOD:PUBLISH
BEGIN:VEVENT
DTSTAMP:20180109T031834
DTSTART:20111223T153000
DTEND:20111223T173000
SUMMARY:Studio Plus Painting
DESCRIPTION:Open-ended exploration with paint and more in the ArtQuest Studio; children under 8 must be accompanied by an adult. <br /><br /><br />
X-ALT-DESC;FMTTYPE=text/html:Open-ended exploration with paint and more in the ArtQuest Studio; children under 8 must be accompanied by an adult. <br /><br /><br />
LOCATION:Hemphill Branch Library\, 2301 West Vandalia Road Greensboro\, North Carolina 27407
CLASS:PUBLIC
END:VEVENT
END:VCALENDAR
