BEGIN:VCALENDAR
VERSION:2.0
PRODID:Greensboro, NC Calendar Creator
METHOD:PUBLISH
BEGIN:VEVENT
DTSTAMP:20180109T031834
DTSTART:20111119T093000
DTEND:20111119T160000
SUMMARY:Public Surplus Auction
DESCRIPTION:Visit&nbsp;<a href="http://www.medenhallauction.com" target="_self" shape="rect">this site</a> to&nbsp;view the auction calendar&nbsp;and to view the contents of this sale.
X-ALT-DESC;FMTTYPE=text/html:Visit&nbsp;<a href="http://www.medenhallauction.com" target="_self" shape="rect">this site</a> to&nbsp;view the auction calendar&nbsp;and to view the contents of this sale.
LOCATION:Medenhall Auto Auction\, 6695 Auction Road Archdale\, North Carolina 27263
CLASS:PUBLIC
END:VEVENT
END:VCALENDAR
