BEGIN:VCALENDAR
VERSION:2.0
PRODID:Greensboro, NC Calendar Creator
METHOD:PUBLISH
BEGIN:VEVENT
DTSTAMP:20180109T031834
DTSTART:20111206T184500
DTEND:20111206T193000
SUMMARY:Family Story Time at Glenwood
DESCRIPTION:<strong>Holiday Lights</strong> - Join us as we experience the&nbsp;lights used during the various holidays of the season, as well as explore the&nbsp;purpose and meaning of the lights.
X-ALT-DESC;FMTTYPE=text/html:<strong>Holiday Lights</strong> - Join us as we experience the&nbsp;lights used during the various holidays of the season, as well as explore the&nbsp;purpose and meaning of the lights.
LOCATION:Glenwood Library\, 1901 W. Florida Street Greensboro\, North Carolina 27403
CLASS:PUBLIC
END:VEVENT
END:VCALENDAR
