BEGIN:VCALENDAR
VERSION:2.0
PRODID:Greensboro, NC Calendar Creator
METHOD:PUBLISH
BEGIN:VEVENT
DTSTAMP:20180109T031834
DTSTART:20111228T143000
DTEND:20111228T235900
SUMMARY:Movie Matinee
DESCRIPTION:Join us in the Children's Room for a showing of "Toy Story 3". Rated G.
X-ALT-DESC;FMTTYPE=text/html:Join us in the Children's Room for a showing of "Toy Story 3". Rated G.
LOCATION:Central Library\, 219 N. Church St Greensboro\, North Carolina 27401
CLASS:PUBLIC
END:VEVENT
END:VCALENDAR
