BEGIN:VCALENDAR
VERSION:2.0
PRODID:Greensboro, NC Calendar Creator
METHOD:PUBLISH
BEGIN:VEVENT
DTSTAMP:20180109T031834
DTSTART:20111116T153000
DTEND:20111116T163000
SUMMARY:Harvest Fest
DESCRIPTION:Harvest Fest - Featuring a cornucopia of harvest and Thanksgiving stories, crafts and garden treats. For school-aged children.
X-ALT-DESC;FMTTYPE=text/html:Harvest Fest - Featuring a cornucopia of harvest and Thanksgiving stories, crafts and garden treats. For school-aged children.
LOCATION:Kathleen Clay Edwards Library\, 1420 Price Park Rd. Greensboro\, North Carolina 27410
CLASS:PUBLIC
END:VEVENT
END:VCALENDAR
