BEGIN:VCALENDAR
VERSION:2.0
PRODID:Greensboro, NC Calendar Creator
METHOD:PUBLISH
BEGIN:VEVENT
DTSTAMP:20180109T031834
DTSTART:20111117T190000
DTEND:20111117T203000
SUMMARY:"Decoding the Affordable Care Act" Lecture
DESCRIPTION:The Greensboro Library, Moses Cone Health Foundation and WFDD are sponsoring&nbsp;this community conversation about US health care reform, lead by&nbsp;T.R. Reid, global affairs reporter for <em>The Washington Post</em> and veteran foreign correspondent. Reid is the author of <em>Healing of America: A Global Quest for Better, Cheaper, and Fairer Health Care</em>.&nbsp; A panel&nbsp;discussion will follow his presentation. Seating for the event is limited and must be reserved by going <a href="http://www.wfdd.org/" title="WFDD Website" target="_blank" shape="rect">online</a>,&nbsp;submitting an <a href="mailto:wfdd@wfu.edu" title="E-Mail WFDD" target="_blank" shape="rect">e-mail</a> request or calling 336-758-8850.
X-ALT-DESC;FMTTYPE=text/html:The Greensboro Library, Moses Cone Health Foundation and WFDD are sponsoring&nbsp;this community conversation about US health care reform, lead by&nbsp;T.R. Reid, global affairs reporter for <em>The Washington Post</em> and veteran foreign correspondent. Reid is the author of <em>Healing of America: A Global Quest for Better, Cheaper, and Fairer Health Care</em>.&nbsp; A panel&nbsp;discussion will follow his presentation. Seating for the event is limited and must be reserved by going <a href="http://www.wfdd.org/" title="WFDD Website" target="_blank" shape="rect">online</a>,&nbsp;submitting an <a href="mailto:wfdd@wfu.edu" title="E-Mail WFDD" target="_blank" shape="rect">e-mail</a> request or calling 336-758-8850.
LOCATION:Greensboro Coliseum\, Odeon Theatre\, 1921 W. Lee St. Greensboro\, North Carolina 27401
CLASS:PUBLIC
END:VEVENT
END:VCALENDAR
