BEGIN:VCALENDAR
VERSION:2.0
PRODID:Greensboro, NC Calendar Creator
METHOD:PUBLISH
BEGIN:VEVENT
DTSTAMP:20180109T031834
DTSTART:20111102T153000
DTEND:20111102T163000
SUMMARY:Winter Garden
DESCRIPTION:Help us plant bulbs in the garden for spring time sprouting and take home your own bulb to practice "forced bulbs." For grades K-5.
X-ALT-DESC;FMTTYPE=text/html:Help us plant bulbs in the garden for spring time sprouting and take home your own bulb to practice "forced bulbs." For grades K-5.
LOCATION:Kathleen Clay Library\, 1420 Price Park Rd. Greensboro\, North Carolina 27410
CLASS:PUBLIC
END:VEVENT
END:VCALENDAR
