BEGIN:VCALENDAR
VERSION:2.0
PRODID:Greensboro, NC Calendar Creator
METHOD:PUBLISH
BEGIN:VEVENT
DTSTAMP:20180109T031834
DTSTART:20111210T110000
DTEND:20111210T113000
SUMMARY:Family Story Time
DESCRIPTION:Join us for stories, songs and finger plays in the Children&rsquo;s Room each Saturday in December.
X-ALT-DESC;FMTTYPE=text/html:Join us for stories, songs and finger plays in the Children&rsquo;s Room each Saturday in December.
LOCATION:Central Library\, 219 N. Church St Greensboro\, North Carolina 27401
CLASS:PUBLIC
END:VEVENT
END:VCALENDAR
