BEGIN:VCALENDAR
VERSION:2.0
PRODID:Greensboro, NC Calendar Creator
METHOD:PUBLISH
BEGIN:VEVENT
DTSTAMP:20180109T031834
DTSTART:20111201T083000
DTEND:20111201T103000
SUMMARY:Small Business Contracting Opportunities with City Government, GTCC, Guilford County Schools
DESCRIPTION:Designed for small business owners and operators, this briefing provides information on becoming a successful bidder on contracts and includes presentations by City, GTCC and Guilford County Schools representatives. To register, call the Chamber of Commerce at 336-387-8322 or the City's Minority and Women's Business Enterprise Program at 336-373-2674.
X-ALT-DESC;FMTTYPE=text/html:Designed for small business owners and operators, this briefing provides information on becoming a successful bidder on contracts and includes presentations by City, GTCC and Guilford County Schools representatives. To register, call the Chamber of Commerce at 336-387-8322 or the City's Minority and Women's Business Enterprise Program at 336-373-2674.
LOCATION:Nussbaum Room\, Central Library\, 219 N. Church St. Greensboro\, North Carolina 
CLASS:PUBLIC
END:VEVENT
END:VCALENDAR
