BEGIN:VCALENDAR
VERSION:2.0
PRODID:Greensboro, NC Calendar Creator
METHOD:PUBLISH
BEGIN:VEVENT
DTSTAMP:20180109T031834
DTSTART:20111214T153000
DTEND:20111214T163000
SUMMARY:Chanukah Olive Press Workshop
DESCRIPTION:Watch an olive press&nbsp;demonstration, then help make oil for the menorah. Also, enjoy a Chanukah game, story, and snack-time. For preschool through school-age&nbsp;children.
X-ALT-DESC;FMTTYPE=text/html:Watch an olive press&nbsp;demonstration, then help make oil for the menorah. Also, enjoy a Chanukah game, story, and snack-time. For preschool through school-age&nbsp;children.
LOCATION:Kathleen Clay Edwards Library\, 1420 Price Park Rd. Greensboro\, North Carolina 27410
CLASS:PUBLIC
END:VEVENT
END:VCALENDAR
