BEGIN:VCALENDAR
VERSION:2.0
PRODID:Greensboro, NC Calendar Creator
METHOD:PUBLISH
BEGIN:VEVENT
DTSTAMP:20180109T031834
DTSTART:20111215T140000
DTEND:20111215T150000
SUMMARY:Mystery Book Club
DESCRIPTION:Please join us for our holiday party. New members welcome.
X-ALT-DESC;FMTTYPE=text/html:Please join us for our holiday party. New members welcome.
LOCATION:Kathleen Clay Edwards Library\, 1920 Price Park Rd. Greensboro\, North Carolina 27410
CLASS:PUBLIC
END:VEVENT
END:VCALENDAR
