BEGIN:VCALENDAR
VERSION:2.0
PRODID:Greensboro, NC Calendar Creator
METHOD:PUBLISH
BEGIN:VEVENT
DTSTAMP:20180109T031834
DTSTART:20111129T180000
DTEND:20111129T200000
SUMMARY:Small Business Event Planning
DESCRIPTION:Local marketing expert Renea Myers presents organized and effective planning methods for small business special events.&nbsp;This is a&nbsp;GTCC Small Business Center/Library partnership event.
X-ALT-DESC;FMTTYPE=text/html:Local marketing expert Renea Myers presents organized and effective planning methods for small business special events.&nbsp;This is a&nbsp;GTCC Small Business Center/Library partnership event.
LOCATION:Central Library\, 219 N. Church Street Greensboro\, North Carolina 27401
CLASS:PUBLIC
END:VEVENT
END:VCALENDAR
