BEGIN:VCALENDAR
VERSION:2.0
PRODID:Greensboro, NC Calendar Creator
METHOD:PUBLISH
BEGIN:VEVENT
DTSTAMP:20180109T031834
DTSTART:20111115T180000
DTEND:20111115T200000
SUMMARY:How to Write a Business Plan
DESCRIPTION:Business plans are a significant part of starting a business.&nbsp;Whether it is to secure funding or to plan for the future, business owners need to generate business plans that establish the direction of the business, develop a marketing plan, and analyze the competition.
X-ALT-DESC;FMTTYPE=text/html:Business plans are a significant part of starting a business.&nbsp;Whether it is to secure funding or to plan for the future, business owners need to generate business plans that establish the direction of the business, develop a marketing plan, and analyze the competition.
LOCATION:Central Library\, 219 N. Church Street Greensboro\, North Carolina 27401
CLASS:PUBLIC
END:VEVENT
END:VCALENDAR
