BEGIN:VCALENDAR
VERSION:2.0
PRODID:Greensboro, NC Calendar Creator
METHOD:PUBLISH
BEGIN:VEVENT
DTSTAMP:20180109T031834
DTSTART:20111108T180000
DTEND:20111108T200000
SUMMARY:GTCC Fast Facts
DESCRIPTION:Basic small business start-up class, co-sponsored by GTCC Small Business Center.
X-ALT-DESC;FMTTYPE=text/html:Basic small business start-up class, co-sponsored by GTCC Small Business Center.
LOCATION:Central Library\, 219 North Church Street Greensboro\, North Carolina 27401
CLASS:PUBLIC
END:VEVENT
END:VCALENDAR
