BEGIN:VCALENDAR
VERSION:2.0
PRODID:Greensboro, NC Calendar Creator
METHOD:PUBLISH
BEGIN:VEVENT
DTSTAMP:20180109T031834
DTSTART:20111110T190000
DTEND:20111110T203000
SUMMARY:Health Care Fact and Fiction: A Community Read
DESCRIPTION:Discussing <em>Healing of America: A Global Quest for Better, Cheaper, and Fairer Health</em> <em>Care</em> by T.R. Reid. Contact Carole Campbell Brown at 336-373-7540 for more information and to borrow a copy of the book.
X-ALT-DESC;FMTTYPE=text/html:Discussing <em>Healing of America: A Global Quest for Better, Cheaper, and Fairer Health</em> <em>Care</em> by T.R. Reid. Contact Carole Campbell Brown at 336-373-7540 for more information and to borrow a copy of the book.
LOCATION:Benjamin Branch Library\, 1530 Benjamin Parkway Greensboro\, North Carolina 27408
CLASS:PUBLIC
END:VEVENT
END:VCALENDAR
