BEGIN:VCALENDAR
VERSION:2.0
PRODID:Greensboro, NC Calendar Creator
METHOD:PUBLISH
BEGIN:VEVENT
DTSTAMP:20180109T031834
DTSTART:20111103T113000
DTEND:20111103T123000
SUMMARY:Commission on the Status of Women's Special Meeting
DESCRIPTION:Purpose is to&nbsp;formulate a response to the Boards and Commissions Recommendations.&nbsp;&nbsp;&nbsp;&nbsp;
X-ALT-DESC;FMTTYPE=text/html:Purpose is to&nbsp;formulate a response to the Boards and Commissions Recommendations.&nbsp;&nbsp;&nbsp;&nbsp;
LOCATION:Plaza Level Conference Room\, Melvin Municipal Office Building\, 300 W. Washington Street Greensboro\, North Carolina 27402
CLASS:PUBLIC
END:VEVENT
END:VCALENDAR
