BEGIN:VCALENDAR
VERSION:2.0
PRODID:Greensboro, NC Calendar Creator
METHOD:PUBLISH
BEGIN:VEVENT
DTSTAMP:20180109T031834
DTSTART:20111108T100000
DTEND:20111109T115900
SUMMARY:Advance Manufacturing & Green Jobs Industries Info Session
DESCRIPTION:Local human resources representatives will discuss&nbsp;growth in these industries and what career opportunities exist. For more information, call 336-373-5922.
X-ALT-DESC;FMTTYPE=text/html:Local human resources representatives will discuss&nbsp;growth in these industries and what career opportunities exist. For more information, call 336-373-5922.
LOCATION:JobLink Career Center\, 303 N. Raleigh St. Greensboro\, North Carolina 
CLASS:PUBLIC
END:VEVENT
END:VCALENDAR
