BEGIN:VCALENDAR
VERSION:2.0
PRODID:Greensboro, NC Calendar Creator
METHOD:PUBLISH
BEGIN:VEVENT
DTSTAMP:20180109T031834
DTSTART:20111110T200000
DTEND:20111110T235900
SUMMARY:“The Little Shop of Horrors” Opens
DESCRIPTION:Presented by the City Arts Drama Center and Livestock Players, shows are November 10-13 and 17-20, with show times of 8:05 pm on Thursdays through Saturdays and 2:05 pm on Sundays. Purchase tickets&nbsp;online at <a href="http://www.TheDramaCenter.com" target="_self">www.TheDramaCenter.com</a>. For more information, contact the City Arts office at 336-373-2026.
X-ALT-DESC;FMTTYPE=text/html:Presented by the City Arts Drama Center and Livestock Players, shows are November 10-13 and 17-20, with show times of 8:05 pm on Thursdays through Saturdays and 2:05 pm on Sundays. Purchase tickets&nbsp;online at <a href="http://www.TheDramaCenter.com" target="_self">www.TheDramaCenter.com</a>. For more information, contact the City Arts office at 336-373-2026.
LOCATION:City Arts Studio\, Greensboro Cultural Center\, 200 N. Davie St. Greensboro\, North Carolina 
CLASS:PUBLIC
END:VEVENT
END:VCALENDAR
