BEGIN:VCALENDAR
VERSION:2.0
PRODID:Greensboro, NC Calendar Creator
METHOD:PUBLISH
BEGIN:VEVENT
DTSTAMP:20180109T031834
DTSTART:20111101T100000
DTEND:20111101T113000
SUMMARY:Employment Opportunities with the Fire Department
DESCRIPTION:Featuring Capt. Kelly Giles, Greensboro Fire Department. For more information, call 336-373-5922.
X-ALT-DESC;FMTTYPE=text/html:Featuring Capt. Kelly Giles, Greensboro Fire Department. For more information, call 336-373-5922.
LOCATION:JobLink Career Center\, 303 N. Raleigh St. Greensboro\, North Carolina 
CLASS:PUBLIC
END:VEVENT
END:VCALENDAR
