BEGIN:VCALENDAR
VERSION:2.0
PRODID:Greensboro, NC Calendar Creator
METHOD:PUBLISH
BEGIN:VEVENT
DTSTAMP:20180109T031834
DTSTART:20111029T110000
DTEND:20111029T130000
SUMMARY:SMARxT Disposal
DESCRIPTION:<p>Protect your family and the environment by taking your unused medicines to&nbsp;one of the&nbsp;Walgreens listed below&nbsp;for proper disposal:</p><ul>    <li>4701 W. Market Street </li>    <li>1600 Spring Garden Street </li>    <li>300 E. Cornwallis Drive </li>    <li>3703 Lawndale Avenue </li>    <li>3701 High Point Road </li>    <li>3529 N. Elm Street </li></ul><p>For more information, call 373-2199 or visit <a href="http://www.SMARxTDisposal.net">www.SMARxTDisposal.net</a>.</p>
X-ALT-DESC;FMTTYPE=text/html:<p>Protect your family and the environment by taking your unused medicines to&nbsp;one of the&nbsp;Walgreens listed below&nbsp;for proper disposal:</p><ul>    <li>4701 W. Market Street </li>    <li>1600 Spring Garden Street </li>    <li>300 E. Cornwallis Drive </li>    <li>3703 Lawndale Avenue </li>    <li>3701 High Point Road </li>    <li>3529 N. Elm Street </li></ul><p>For more information, call 373-2199 or visit <a href="http://www.SMARxTDisposal.net">www.SMARxTDisposal.net</a>.</p>
LOCATION:Walgreens\, Greensboro\, North Carolina 
CLASS:PUBLIC
END:VEVENT
END:VCALENDAR
