BEGIN:VCALENDAR
VERSION:2.0
PRODID:Greensboro, NC Calendar Creator
METHOD:PUBLISH
BEGIN:VEVENT
DTSTAMP:20180109T031834
DTSTART:20111121T120000
DTEND:20111121T130000
SUMMARY:Benjamin Branch Readers
DESCRIPTION:Join us as we discuss <em>Dragon Seed</em> by Pearl Buck.&nbsp;&nbsp;Contact <a href="mailto:&#109;&#97;&#114;&#105;&#108;&#121;&#110;&#46;&#119;&#97;&#100;&#100;&#101;&#108;&#108;&#64;&#103;&#114;&#101;&#101;&#110;&#115;&#98;&#111;&#114;&#111;&#45;&#110;&#99;&#46;&#103;&#111;&#118;&#63;&#115;&#117;&#98;&#106;&#101;&#99;&#116;&#61;&#66;&#101;&#110;&#106;&#97;&#109;&#105;&#110;&#37;20&#66;&#114;&#97;&#110;&#99;&#104;&#37;20&#82;&#101;&#97;&#100;&#101;&#114;&#115;">Marilyn Waddell</a>&nbsp;for more information and a copy of the book.
X-ALT-DESC;FMTTYPE=text/html:Join us as we discuss <em>Dragon Seed</em> by Pearl Buck.&nbsp;&nbsp;Contact <a href="mailto:&#109;&#97;&#114;&#105;&#108;&#121;&#110;&#46;&#119;&#97;&#100;&#100;&#101;&#108;&#108;&#64;&#103;&#114;&#101;&#101;&#110;&#115;&#98;&#111;&#114;&#111;&#45;&#110;&#99;&#46;&#103;&#111;&#118;&#63;&#115;&#117;&#98;&#106;&#101;&#99;&#116;&#61;&#66;&#101;&#110;&#106;&#97;&#109;&#105;&#110;&#37;20&#66;&#114;&#97;&#110;&#99;&#104;&#37;20&#82;&#101;&#97;&#100;&#101;&#114;&#115;">Marilyn Waddell</a>&nbsp;for more information and a copy of the book.
LOCATION:Benjamin Branch Library\, 1530 Benjamin Parkway Greensboro\, North Carolina 27408
CLASS:PUBLIC
END:VEVENT
END:VCALENDAR
