BEGIN:VCALENDAR
VERSION:2.0
PRODID:Greensboro, NC Calendar Creator
METHOD:PUBLISH
BEGIN:VEVENT
DTSTAMP:20180109T031834
DTSTART:20111118T153000
DTEND:20111118T173000
SUMMARY:Studio Plus Painting
DESCRIPTION:<p>Open-ended exploration with paint and more in the ArtQuest Studio; children under&nbsp;8 must be accompanied by an adult.</p><p>&nbsp;</p>
X-ALT-DESC;FMTTYPE=text/html:<p>Open-ended exploration with paint and more in the ArtQuest Studio; children under&nbsp;8 must be accompanied by an adult.</p><p>&nbsp;</p>
LOCATION:Hemphill Branch Library\, 2301 W. Vandalia Rd Greensboro\, North Carolina 27407
CLASS:PUBLIC
END:VEVENT
END:VCALENDAR
