BEGIN:VCALENDAR
VERSION:2.0
PRODID:Greensboro, NC Calendar Creator
METHOD:PUBLISH
BEGIN:VEVENT
DTSTAMP:20180109T031834
DTSTART:20111114T183000
DTEND:20111114T193000
SUMMARY:Family Game Night
DESCRIPTION:<p>Fun for all ages with board games, puzzles and more!</p><p>&nbsp;</p>
X-ALT-DESC;FMTTYPE=text/html:<p>Fun for all ages with board games, puzzles and more!</p><p>&nbsp;</p>
LOCATION:Hemphill Branch Library\, 2301 W. Vandalia Rd Greensboro\, North Carolina 27407
CLASS:PUBLIC
END:VEVENT
END:VCALENDAR
