BEGIN:VCALENDAR
VERSION:2.0
PRODID:Greensboro, NC Calendar Creator
METHOD:PUBLISH
BEGIN:VEVENT
DTSTAMP:20180109T031834
DTSTART:20111108T160000
DTEND:20111108T170000
SUMMARY:Books & More Book Club
DESCRIPTION:Enjoy literature, art activities and more for grades K-3.
X-ALT-DESC;FMTTYPE=text/html:Enjoy literature, art activities and more for grades K-3.
LOCATION:Hemphill Branch Library\, 2301 W. Vandalia Rd Greensboro\, North Carolina 27407
CLASS:PUBLIC
END:VEVENT
END:VCALENDAR
