BEGIN:VCALENDAR
VERSION:2.0
PRODID:Greensboro, NC Calendar Creator
METHOD:PUBLISH
BEGIN:VEVENT
DTSTAMP:20180109T031834
DTSTART:20111107T183000
DTEND:20111107T193000
SUMMARY:Family Art Night
DESCRIPTION:Art fun for all ages in the studio.
X-ALT-DESC;FMTTYPE=text/html:Art fun for all ages in the studio.
LOCATION:Hemphill Branch Library\, 2391 W. Vandalia Rd Greensboro\, North Carolina 27407
CLASS:PUBLIC
END:VEVENT
END:VCALENDAR
