BEGIN:VCALENDAR
VERSION:2.0
PRODID:Greensboro, NC Calendar Creator
METHOD:PUBLISH
BEGIN:VEVENT
DTSTAMP:20180109T031834
DTSTART:20111115T140000
DTEND:20111115T150000
SUMMARY:Reader's Choice Book Club
DESCRIPTION:Join us in discussing a book or books of your choice. Tell us about what you are&nbsp;reading now or your favorite book of all time. For more information, contact <a href="mailto:&#109;&#97;&#114;&#105;&#108;&#121;&#110;&#46;&#119;&#97;&#100;&#100;&#101;&#108;&#108;&#64;&#103;&#114;&#101;&#101;&#110;&#115;&#98;&#111;&#114;&#111;&#45;&#110;&#99;&#46;&#103;&#111;&#118;&#63;&#115;&#117;&#98;&#106;&#101;&#99;&#116;&#61;&#82;&#101;&#97;&#100;&#101;&#114;&#37;27&#115;&#37;20&#67;&#104;&#111;&#105;&#99;&#101;&#37;20&#66;&#111;&#111;&#107;&#37;20&#67;&#108;&#117;&#98;">Marilyn Waddell</a>.
X-ALT-DESC;FMTTYPE=text/html:Join us in discussing a book or books of your choice. Tell us about what you are&nbsp;reading now or your favorite book of all time. For more information, contact <a href="mailto:&#109;&#97;&#114;&#105;&#108;&#121;&#110;&#46;&#119;&#97;&#100;&#100;&#101;&#108;&#108;&#64;&#103;&#114;&#101;&#101;&#110;&#115;&#98;&#111;&#114;&#111;&#45;&#110;&#99;&#46;&#103;&#111;&#118;&#63;&#115;&#117;&#98;&#106;&#101;&#99;&#116;&#61;&#82;&#101;&#97;&#100;&#101;&#114;&#37;27&#115;&#37;20&#67;&#104;&#111;&#105;&#99;&#101;&#37;20&#66;&#111;&#111;&#107;&#37;20&#67;&#108;&#117;&#98;">Marilyn Waddell</a>.
LOCATION:Benjamin Branch Library\, 1530 Benjamin Parkway Greensboro\, North Carolina 27408
CLASS:PUBLIC
END:VEVENT
END:VCALENDAR
