BEGIN:VCALENDAR
VERSION:2.0
PRODID:Greensboro, NC Calendar Creator
METHOD:PUBLISH
BEGIN:VEVENT
DTSTAMP:20180109T031834
DTSTART:20111011T183000
DTEND:20111011T200000
SUMMARY:Teen Art Studio
DESCRIPTION:We will make cardboard sculpture in the style of Louise Nevelson. For more information check the&nbsp;<a href="https://greensboro2.prod-as.govaccess.org/?navid=3026" target="_self">Art Studio Calendar</a> and register.
X-ALT-DESC;FMTTYPE=text/html:We will make cardboard sculpture in the style of Louise Nevelson. For more information check the&nbsp;<a href="https://greensboro2.prod-as.govaccess.org/?navid=3026" target="_self">Art Studio Calendar</a> and register.
LOCATION:Hemphill Branch Library\, 2301 West Vandalia Road Greensboro\, North Carolina 27407
CLASS:PUBLIC
END:VEVENT
END:VCALENDAR
