BEGIN:VCALENDAR
VERSION:2.0
PRODID:Greensboro, NC Calendar Creator
METHOD:PUBLISH
BEGIN:VEVENT
DTSTAMP:20180109T031834
DTSTART:20111103T190000
DTEND:20111103T203000
SUMMARY:ESOL - Basic Computer Skills
DESCRIPTION:Computer skills class for people whose first language is not English.&nbsp;Students can learn everything from how to handle a mouse to setting up an e-mail account.
X-ALT-DESC;FMTTYPE=text/html:Computer skills class for people whose first language is not English.&nbsp;Students can learn everything from how to handle a mouse to setting up an e-mail account.
LOCATION:Central Library\, 219 North Church Street Greensboro\, North Carolina 27401
CLASS:PUBLIC
END:VEVENT
END:VCALENDAR
