BEGIN:VCALENDAR
VERSION:2.0
PRODID:Greensboro, NC Calendar Creator
METHOD:PUBLISH
BEGIN:VEVENT
DTSTAMP:20180109T031834
DTSTART:20111109T093000
DTEND:20111109T100000
SUMMARY:Story Time at Kathleen Clay Library 
DESCRIPTION:Farm Friends: Vaca! Burro! Gallina! Stories, finger plays, and short movies for ages 1-5 at 9:30 am, 10:30 am, and 11:30 am.
X-ALT-DESC;FMTTYPE=text/html:Farm Friends: Vaca! Burro! Gallina! Stories, finger plays, and short movies for ages 1-5 at 9:30 am, 10:30 am, and 11:30 am.
LOCATION:Kathleen Clay Edwards Library\, 1420 Price Park Rd. Greensboro\, North Carolina 27410
CLASS:PUBLIC
END:VEVENT
END:VCALENDAR
