BEGIN:VCALENDAR
VERSION:2.0
PRODID:Greensboro, NC Calendar Creator
METHOD:PUBLISH
BEGIN:VEVENT
DTSTAMP:20180109T031834
DTSTART:20120411T100000
DTEND:20120411T113000
SUMMARY:Beginners Computer Class
DESCRIPTION:Learn the basics about&nbsp;the Internet and saving documents. Class size&nbsp;is&nbsp;small for individual attention, so register early by calling&nbsp;336-373-2925.
X-ALT-DESC;FMTTYPE=text/html:Learn the basics about&nbsp;the Internet and saving documents. Class size&nbsp;is&nbsp;small for individual attention, so register early by calling&nbsp;336-373-2925.
LOCATION:Hemphill Branch Library\, 2301 West Vandalia Road Greensboro\, North Carolina 27407
CLASS:PUBLIC
END:VEVENT
END:VCALENDAR
