BEGIN:VCALENDAR
VERSION:2.0
PRODID:Greensboro, NC Calendar Creator
METHOD:PUBLISH
BEGIN:VEVENT
DTSTAMP:20180109T031834
DTSTART:20111103T181500
DTEND:20111103T204500
SUMMARY:Teen Movie Night - "Inception"
DESCRIPTION:Enjoy the suspense as international thieves try to steal from others' dreams! Rated PG-13, 142 min, 2010.
X-ALT-DESC;FMTTYPE=text/html:Enjoy the suspense as international thieves try to steal from others' dreams! Rated PG-13, 142 min, 2010.
LOCATION:Vance H. Chavis Branch\, 900 S. Benbow Rd Greensboro\, North Carolina 27406
CLASS:PUBLIC
END:VEVENT
END:VCALENDAR
