BEGIN:VCALENDAR
VERSION:2.0
PRODID:Greensboro, NC Calendar Creator
METHOD:PUBLISH
BEGIN:VEVENT
DTSTAMP:20180109T031834
DTSTART:20111116T193000
DTEND:20111116T203000
SUMMARY:Introduction to Genealogy
DESCRIPTION:Learn what the Greensboro Public Library has to offer when researching your family tree.
X-ALT-DESC;FMTTYPE=text/html:Learn what the Greensboro Public Library has to offer when researching your family tree.
LOCATION:Central Library\, 219 North Church Street Greensboro\, North Carolina 27401
CLASS:PUBLIC
END:VEVENT
END:VCALENDAR
